BEGIN:VCALENDAR
VERSION:2.0
PRODID:-//Aarambh Trust - ECPv4.4.5//NONSGML v1.0//EN
CALSCALE:GREGORIAN
METHOD:PUBLISH
X-WR-CALNAME:Aarambh Trust
X-ORIGINAL-URL:https://aarambhtrust.in
X-WR-CALDESC:Events for Aarambh Trust
BEGIN:VEVENT
DTSTART;VALUE=DATE:20241023
DTEND;VALUE=DATE:20241023
DTSTAMP:20260422T111235
CREATED:20240612T101038Z
LAST-MODIFIED:20240612T101038Z
UID:3303-1729641600-1729727999@aarambhtrust.in
SUMMARY:Aarambh Creation Exhibition inauguration
DESCRIPTION:
URL:https://aarambhtrust.in/index.php/event/aarambh-creation-exhibition-inauguration/
CATEGORIES:Aarambh Trust Event
END:VEVENT
END:VCALENDAR