BEGIN:VCALENDAR
VERSION:2.0
PRODID:-//Aarambh Trust - ECPv4.4.5//NONSGML v1.0//EN
CALSCALE:GREGORIAN
METHOD:PUBLISH
X-WR-CALNAME:Aarambh Trust
X-ORIGINAL-URL:https://aarambhtrust.in
X-WR-CALDESC:Events for Aarambh Trust
BEGIN:VEVENT
DTSTART;VALUE=DATE:20250312
DTEND;VALUE=DATE:20250312
DTSTAMP:20260422T034347
CREATED:20240612T103049Z
LAST-MODIFIED:20240612T103049Z
UID:3331-1741737600-1741823999@aarambhtrust.in
SUMMARY:Aarambh sakham Puraskar Program
DESCRIPTION:
URL:https://aarambhtrust.in/index.php/event/aarambh-sakham-puraskar-program/
CATEGORIES:Aarambh Trust Event
END:VEVENT
END:VCALENDAR