BEGIN:VCALENDAR
VERSION:2.0
PRODID:-//Aarambh Trust - ECPv4.4.5//NONSGML v1.0//EN
CALSCALE:GREGORIAN
METHOD:PUBLISH
X-WR-CALNAME:Aarambh Trust
X-ORIGINAL-URL:https://aarambhtrust.in
X-WR-CALDESC:Events for Aarambh Trust
BEGIN:VEVENT
DTSTART;VALUE=DATE:20241120
DTEND;VALUE=DATE:20241120
DTSTAMP:20260422T093416
CREATED:20240612T101114Z
LAST-MODIFIED:20240612T101143Z
UID:3305-1732060800-1732147199@aarambhtrust.in
SUMMARY:Children’s day
DESCRIPTION:
URL:https://aarambhtrust.in/index.php/event/childrens-day/
CATEGORIES:Aarambh Trust Event
END:VEVENT
END:VCALENDAR