BEGIN:VCALENDAR
VERSION:2.0
PRODID:-//Aarambh Trust - ECPv4.4.5//NONSGML v1.0//EN
CALSCALE:GREGORIAN
METHOD:PUBLISH
X-WR-CALNAME:Aarambh Trust
X-ORIGINAL-URL:https://aarambhtrust.in
X-WR-CALDESC:Events for Aarambh Trust
BEGIN:VEVENT
DTSTART;VALUE=DATE:20241225
DTEND;VALUE=DATE:20241225
DTSTAMP:20260422T072639
CREATED:20240612T101400Z
LAST-MODIFIED:20240612T101400Z
UID:3311-1735084800-1735171199@aarambhtrust.in
SUMMARY:Christmas celebration
DESCRIPTION:
URL:https://aarambhtrust.in/index.php/event/christmas-celebration/
CATEGORIES:Aarambh Trust Event
END:VEVENT
END:VCALENDAR