BEGIN:VCALENDAR
VERSION:2.0
PRODID:-//Aarambh Trust - ECPv4.4.5//NONSGML v1.0//EN
CALSCALE:GREGORIAN
METHOD:PUBLISH
X-WR-CALNAME:Aarambh Trust
X-ORIGINAL-URL:https://aarambhtrust.in
X-WR-CALDESC:Events for Aarambh Trust
BEGIN:VEVENT
DTSTART;VALUE=DATE:20240827
DTEND;VALUE=DATE:20240827
DTSTAMP:20260422T112139
CREATED:20240612T100300Z
LAST-MODIFIED:20240612T100300Z
UID:3289-1724716800-1724803199@aarambhtrust.in
SUMMARY:Dahihandi
DESCRIPTION:
URL:https://aarambhtrust.in/index.php/event/dahihandi/
CATEGORIES:Aarambh Trust Event
END:VEVENT
END:VCALENDAR