BEGIN:VCALENDAR
VERSION:2.0
PRODID:-//Aarambh Trust - ECPv4.4.5//NONSGML v1.0//EN
CALSCALE:GREGORIAN
METHOD:PUBLISH
X-WR-CALNAME:Aarambh Trust
X-ORIGINAL-URL:https://aarambhtrust.in
X-WR-CALDESC:Events for Aarambh Trust
BEGIN:VEVENT
DTSTART;VALUE=DATE:20241011
DTEND;VALUE=DATE:20241011
DTSTAMP:20260422T110311
CREATED:20240612T100755Z
LAST-MODIFIED:20240612T100755Z
UID:3299-1728604800-1728691199@aarambhtrust.in
SUMMARY:Dasra Pooja in school
DESCRIPTION:
URL:https://aarambhtrust.in/index.php/event/dasra-pooja-in-school/
CATEGORIES:Aarambh Trust Event
END:VEVENT
END:VCALENDAR