BEGIN:VCALENDAR
VERSION:2.0
PRODID:-//Aarambh Trust - ECPv4.4.5//NONSGML v1.0//EN
CALSCALE:GREGORIAN
METHOD:PUBLISH
X-WR-CALNAME:Aarambh Trust
X-ORIGINAL-URL:https://aarambhtrust.in
X-WR-CALDESC:Events for Aarambh Trust
BEGIN:VEVENT
DTSTART;VALUE=DATE:20240820
DTEND;VALUE=DATE:20240820
DTSTAMP:20260422T130453
CREATED:20240612T100158Z
LAST-MODIFIED:20240612T100158Z
UID:3287-1724112000-1724198399@aarambhtrust.in
SUMMARY:Ganesh Festival Preparation
DESCRIPTION:
URL:https://aarambhtrust.in/index.php/event/ganesh-festival-preparation/
CATEGORIES:Aarambh Trust Event
END:VEVENT
END:VCALENDAR