BEGIN:VCALENDAR
VERSION:2.0
PRODID:-//Aarambh Trust - ECPv4.4.5//NONSGML v1.0//EN
CALSCALE:GREGORIAN
METHOD:PUBLISH
X-WR-CALNAME:Aarambh Trust
X-ORIGINAL-URL:https://aarambhtrust.in
X-WR-CALDESC:Events for Aarambh Trust
BEGIN:VEVENT
DTSTART;VALUE=DATE:20241203
DTEND;VALUE=DATE:20241203
DTSTAMP:20260422T073528
CREATED:20240612T101327Z
LAST-MODIFIED:20240612T101327Z
UID:3309-1733184000-1733270399@aarambhtrust.in
SUMMARY:Health Camp on the occasion of world disability day
DESCRIPTION:
URL:https://aarambhtrust.in/index.php/event/health-camp-on-the-occasion-of-world-disability-day/
CATEGORIES:Aarambh Trust Event
END:VEVENT
END:VCALENDAR