BEGIN:VCALENDAR
VERSION:2.0
PRODID:-//Aarambh Trust - ECPv4.4.5//NONSGML v1.0//EN
CALSCALE:GREGORIAN
METHOD:PUBLISH
X-WR-CALNAME:Aarambh Trust
X-ORIGINAL-URL:https://aarambhtrust.in
X-WR-CALDESC:Events for Aarambh Trust
BEGIN:VEVENT
DTSTART;VALUE=DATE:20241016
DTEND;VALUE=DATE:20241016
DTSTAMP:20260422T094918
CREATED:20240612T100933Z
LAST-MODIFIED:20240612T100933Z
UID:3301-1729036800-1729123199@aarambhtrust.in
SUMMARY:Kojagiri Pornima program for Students and parents
DESCRIPTION:
URL:https://aarambhtrust.in/index.php/event/kojagiri-pornima-program-for-students-and-parents/
CATEGORIES:Aarambh Trust Event
END:VEVENT
END:VCALENDAR