BEGIN:VCALENDAR
VERSION:2.0
PRODID:-//Aarambh Trust - ECPv4.4.5//NONSGML v1.0//EN
CALSCALE:GREGORIAN
METHOD:PUBLISH
X-WR-CALNAME:Aarambh Trust
X-ORIGINAL-URL:https://aarambhtrust.in
X-WR-CALDESC:Events for Aarambh Trust
BEGIN:VEVENT
DTSTART;VALUE=DATE:20250106
DTEND;VALUE=DATE:20250106
DTSTAMP:20260422T054308
CREATED:20240612T102317Z
LAST-MODIFIED:20240612T102317Z
UID:3315-1736121600-1736207999@aarambhtrust.in
SUMMARY:National Birds Day
DESCRIPTION:
URL:https://aarambhtrust.in/index.php/event/national-birds-day/
CATEGORIES:Aarambh Trust Event
END:VEVENT
END:VCALENDAR