BEGIN:VCALENDAR
VERSION:2.0
PRODID:-//Aarambh Trust - ECPv4.4.5//NONSGML v1.0//EN
CALSCALE:GREGORIAN
METHOD:PUBLISH
X-WR-CALNAME:Aarambh Trust
X-ORIGINAL-URL:https://aarambhtrust.in
X-WR-CALDESC:Events for Aarambh Trust
BEGIN:VEVENT
DTSTART;VALUE=DATE:20250123
DTEND;VALUE=DATE:20250123
DTSTAMP:20260422T054411
CREATED:20240612T102537Z
LAST-MODIFIED:20240612T102537Z
UID:3319-1737590400-1737676799@aarambhtrust.in
SUMMARY:Netaji Subhas Chandra Bose Jayanti
DESCRIPTION:
URL:https://aarambhtrust.in/index.php/event/netaji-subhas-chandra-bose-jayanti/
CATEGORIES:Aarambh Trust Event
END:VEVENT
END:VCALENDAR