BEGIN:VCALENDAR
VERSION:2.0
PRODID:-//Aarambh Trust - ECPv4.4.5//NONSGML v1.0//EN
CALSCALE:GREGORIAN
METHOD:PUBLISH
X-WR-CALNAME:Aarambh Trust
X-ORIGINAL-URL:https://aarambhtrust.in
X-WR-CALDESC:Events for Aarambh Trust
BEGIN:VEVENT
DTSTART;VALUE=DATE:20250321
DTEND;VALUE=DATE:20250321
DTSTAMP:20260422T020704
CREATED:20240612T103311Z
LAST-MODIFIED:20240612T103311Z
UID:3337-1742515200-1742601599@aarambhtrust.in
SUMMARY:Online workshop for parents on World Down Syndrome Day
DESCRIPTION:
URL:https://aarambhtrust.in/index.php/event/online-workshop-for-parents-on-world-down-syndrome-day/
CATEGORIES:Aarambh Trust Event
END:VEVENT
END:VCALENDAR