BEGIN:VCALENDAR
VERSION:2.0
PRODID:-//Aarambh Trust - ECPv4.4.5//NONSGML v1.0//EN
CALSCALE:GREGORIAN
METHOD:PUBLISH
X-WR-CALNAME:Aarambh Trust
X-ORIGINAL-URL:https://aarambhtrust.in
X-WR-CALDESC:Events for Aarambh Trust
BEGIN:VEVENT
DTSTART;VALUE=DATE:20250126
DTEND;VALUE=DATE:20250126
DTSTAMP:20260422T041027
CREATED:20240612T102619Z
LAST-MODIFIED:20240612T102619Z
UID:3321-1737849600-1737935999@aarambhtrust.in
SUMMARY:Republic Day
DESCRIPTION:
URL:https://aarambhtrust.in/index.php/event/republic-day/
CATEGORIES:Aarambh Trust Event
END:VEVENT
END:VCALENDAR